Workbook
Name Design_Data: Abstract!$A$19:$Y$38
Name Post_Decadal_Population: #REF!
Name Soil_Cohesion: Database!$A$10:$B$14

Sheet Abstract
B1: Soil Parameters | N1: Formulas | V1: As per Clause 6.15 & Annexure 6.8 of CPHEEO manual for Water Supply & Treatment
B2: Description | G2: Symbol | H2: Value | I2: UoM | J2: Value | K2: UoM
B3: Unit weight of Soil | H3: 1800 | I3: kg/cum | J3: =ROUND(H3/1000,3) -> 1.8 | K3: tonne/cum
B4: Angle of Internal friction | H4: 30 | I4: Degrees | J4: =ROUND(H4*PI()/180,3) -> 0.524 | K4: radians
B5: Cohesion of Soil (Select soil type) | E5: Gravel | G5: C | H5: =IFERROR(VLOOKUP(E5,Soil_Cohesion,2,FALSE),"") -> 0 | J5: =H5 -> 0
B6: Coefficient of Soil Friction | G6: fs | H6: 0.3 | J6: =IF(H6<>"",H6,"") -> 0.3
B8: Default Parameters
B9: Unit Weight of Concrete | E9: 2300 | F9: kg/m3 | G9: Unit Weight of Water | I9: 1000 | J9: kg/m3 | K9: Default Earth Cushion (Ec) | L9: 60 | N9: Sub-Formula | R9: Legend | S9: Data Input Cell
E10: =ROUND(E9/1000,2) -> 2.3 | F10: tonnne/m3 | I10: =ROUND(I9/1000,2) -> 1 | J10: tonnne/m3 | L10: cm | P10: =ROUND((1+SIN(J4))/(1-SIN(J4)),3) -> 3.003 | R10: =AND(H3<>"",H4<>"",E5<>"",H6<>"",E9<>"",L9<>"") -> TRUE | S10: =IF(R10,"All Parameters Defined","One or more Parameters NOT defined") -> All Parameters Defined
P11: =ROUND(1/P10,3) -> 0.333
A13: S.No | B13: Pipe Diameter | E13: Pressure | F13: Deviation Angle of Bend | H13: Area of Pipe | J13: Thrust Force | L13: Earth Cushion | N13: Concrete Block Dimensions | Q13: Weight | U13: Counteracting Forces | Y13: Factor of Safety (Fc/F) | Z13: Status of Data Entry
Q14: Concrete Block | R14: Water in Pipe | S14: Earth Cushion | T14: Total | U14: Frictional Resistance of Soil | V14: Passive Earth Pressure | W14: Active Earth Pressure | X14: Total
B15: d | E15: P | F15: α | H15: A | J15: F | L15: Ec | N15: L | O15: B | P15: H | Q15: Wc | R15: Ww | S15: Ws | T15: W | U15: Fs | V15: Fp | W15: Fa | X15: Fc
B16: mm | C16: cm | D16: m | E16: kg/cm2 | F16: Deg | G16: Rad | H16: cm2 | I16: m2 | J16: kg | K16: tonne | L16: cm | M16: m | N16: m | O16: m | P16: m | Q16: tonne | R16: tonne | S16: tonne | T16: tonne | U16: tonne | V16: tonne | W16: tonne | X16: tonne
A18: 0 | B18: =A18+1 -> 1 | C18: =B18+1 -> 2 | D18: =C18+1 -> 3 | E18: =D18+1 -> 4 | F18: =E18+1 -> 5 | G18: =F18+1 -> 6 | H18: =G18+1 -> 7 | I18: =H18+1 -> 8 | ... Y18: =X18+1 -> 24
A19: =IF(AND(B19<>"",E19<>"",F19<>"",L19<>"",N19<>"",O19<>"",P19<>""),A18+1,"") -> 1 | B19: 900 | C19: =ROUND(B19/10,2) -> 90 | D19: =ROUND(C19/100,2) -> 0.9 | E19: 11 | F19: 45 | G19: =ROUND(F19*PI()/180,3) -> 0.785 | H19: =ROUND(PI()*C19*C19/4,0) -> 6362 | I19: =ROUND(PI()*D19*D19/4,2) -> 0.64 | J19: =ROUND(2*E19*H19*SIN(G19/2),0) -> 53536 | K19: =ROUND(J19/1000,2) -> 53.54 | L19: =$L$9 -> 60 | M19: =ROUND(L19/100,2) -> 0.6 | N19: 3.2 | O19: =IF(N19<>"",N19,"") -> 3.2 | P19: =IF(O19<>"",O19,"") -> 3.2 | Q19: =ROUND($E$10*N19*O19*P19,2) -> 75.37 | R19: =ROUND($I$10*I19*N19,2) -> 2.05 | S19: =ROUND($J$3*O19*D19*M19,2) -> 3.11 | T19: =Q19+R19+S19 -> 80.53 | U19: =ROUND($H$6*T19,2) -> 24.16 | V19: =ROUND(($J$3*(P19^2)*N19*$P$10/2)+(2*$J$5*P19*N19*SQRT($P$10)),2) -> 88.56 | W19: =ROUND(($J$3*D19*$P$11)+(2*$J$5*$P$11),2) -> 0.54 | X19: =U19+V19+W19 -> 113.26 | Y19: =ROUND(X19/K19,2) -> 2.12 | Z19: =OR(AND(B19<>"",E19<>"",F19<>"",L19<>"",N19<>"",O19<>"",P19<>""),AND(B19="",E19="",F19="",L19="",N19="",O19="",P19="")) -> TRUE
A20: =IF(AND(B20<>"",E20<>"",F20<>"",L20<>"",N20<>"",O20<>"",P20<>""),A19+1,"") | Z20: =OR(AND(B20<>"",E20<>"",F20<>"",L20<>"",N20<>"",O20<>"",P20<>""),AND(B20="",E20="",F20="",L20="",N20="",O20="",P20="")) -> TRUE
A21: =IF(AND(B21<>"",E21<>"",F21<>"",L21<>"",N21<>"",O21<>"",P21<>""),A20+1,"") | Z21: =OR(AND(B21<>"",E21<>"",F21<>"",L21<>"",N21<>"",O21<>"",P21<>""),AND(B21="",E21="",F21="",L21="",N21="",O21="",P21="")) -> TRUE
A22: =IF(AND(B22<>"",E22<>"",F22<>"",L22<>"",N22<>"",O22<>"",P22<>""),A21+1,"") | Z22: =OR(AND(B22<>"",E22<>"",F22<>"",L22<>"",N22<>"",O22<>"",P22<>""),AND(B22="",E22="",F22="",L22="",N22="",O22="",P22="")) -> TRUE
A23: =IF(AND(B23<>"",E23<>"",F23<>"",L23<>"",N23<>"",O23<>"",P23<>""),A22+1,"") | Z23: =OR(AND(B23<>"",E23<>"",F23<>"",L23<>"",N23<>"",O23<>"",P23<>""),AND(B23="",E23="",F23="",L23="",N23="",O23="",P23="")) -> TRUE
A24: =IF(AND(B24<>"",E24<>"",F24<>"",L24<>"",N24<>"",O24<>"",P24<>""),A23+1,"") | Z24: =OR(AND(B24<>"",E24<>"",F24<>"",L24<>"",N24<>"",O24<>"",P24<>""),AND(B24="",E24="",F24="",L24="",N24="",O24="",P24="")) -> TRUE
A25: =IF(AND(B25<>"",E25<>"",F25<>"",L25<>"",N25<>"",O25<>"",P25<>""),A24+1,"") | Z25: =OR(AND(B25<>"",E25<>"",F25<>"",L25<>"",N25<>"",O25<>"",P25<>""),AND(B25="",E25="",F25="",L25="",N25="",O25="",P25="")) -> TRUE
A26: =IF(AND(B26<>"",E26<>"",F26<>"",L26<>"",N26<>"",O26<>"",P26<>""),A25+1,"") | Z26: =OR(AND(B26<>"",E26<>"",F26<>"",L26<>"",N26<>"",O26<>"",P26<>""),AND(B26="",E26="",F26="",L26="",N26="",O26="",P26="")) -> TRUE
A27: =IF(AND(B27<>"",E27<>"",F27<>"",L27<>"",N27<>"",O27<>"",P27<>""),A26+1,"") | Z27: =OR(AND(B27<>"",E27<>"",F27<>"",L27<>"",N27<>"",O27<>"",P27<>""),AND(B27="",E27="",F27="",L27="",N27="",O27="",P27="")) -> TRUE
A28: =IF(AND(B28<>"",E28<>"",F28<>"",L28<>"",N28<>"",O28<>"",P28<>""),A27+1,"") | Z28: =OR(AND(B28<>"",E28<>"",F28<>"",L28<>"",N28<>"",O28<>"",P28<>""),AND(B28="",E28="",F28="",L28="",N28="",O28="",P28="")) -> TRUE
A29: =IF(AND(B29<>"",E29<>"",F29<>"",L29<>"",N29<>"",O29<>"",P29<>""),A28+1,"") | Z29: =OR(AND(B29<>"",E29<>"",F29<>"",L29<>"",N29<>"",O29<>"",P29<>""),AND(B29="",E29="",F29="",L29="",N29="",O29="",P29="")) -> TRUE
A30: =IF(AND(B30<>"",E30<>"",F30<>"",L30<>"",N30<>"",O30<>"",P30<>""),A29+1,"") | Z30: =OR(AND(B30<>"",E30<>"",F30<>"",L30<>"",N30<>"",O30<>"",P30<>""),AND(B30="",E30="",F30="",L30="",N30="",O30="",P30="")) -> TRUE
A31: =IF(AND(B31<>"",E31<>"",F31<>"",L31<>"",N31<>"",O31<>"",P31<>""),A30+1,"") | Z31: =OR(AND(B31<>"",E31<>"",F31<>"",L31<>"",N31<>"",O31<>"",P31<>""),AND(B31="",E31="",F31="",L31="",N31="",O31="",P31="")) -> TRUE
... A38: =IF(AND(B38<>"",E38<>"",F38<>"",L38<>"",N38<>"",O38<>"",P38<>""),A37+1,"") | Z38: =OR(AND(B38<>"",E38<>"",F38<>"",L38<>"",N38<>"",O38<>"",P38<>""),AND(B38="",E38="",F38="",L38="",N38="",O38="",P38="")) -> TRUE

Sheet Thrust Block Design
A1: Design of Thrust Blocks as per Clause 6.15 & Annexure 6.8 of CPHEEO Manual for Water Supply and Treatment Systems
A2: Soil Parameters
A3: Unit weight of Soil | G3: =Abstract!J3 -> 1.8 | H3: tonne/m3
A4: Angle of Internal friction | G4: =Abstract!J4 -> 0.524 | H4: radians
A5: Type of Soil | C5: =Abstract!E5 -> Gravel | E5: Cohesion | F5: C | G5: =Abstract!J5 -> 0
A6: Coefficient of Soil Friction | F6: fs | G6: =Abstract!J6 -> 0.3
A7: Default Parameters
A8: Unit Weight of Concrete | G8: =Abstract!E10 -> 2.3 | H8: tonnne/m3
A9: Unit Weight of Water | G9: =Abstract!$I$10 -> 1 | H9: tonnne/m3
B11: Sub-Formula | F11: Select Design S.No. | H11: 1
D12: =Abstract!P10 -> 3.003
D13: =Abstract!P11 -> 0.333
A15: d | B15: Diameter of the pipe | I15: =IFERROR(VLOOKUP($H$11,Design_Data,4,FALSE),"") -> 0.9 | J15: m
A16: P | B16: Internal Pressure in the Pipe = | F16: =IFERROR(VLOOKUP($H$11,Design_Data,5,FALSE),"") & " kg/sq.cm x 10000/1000" -> 11 kg/sq.cm x 10000/1000 | I16: =IFERROR(10*VLOOKUP($H$11,Design_Data,5,FALSE),"") -> 110 | J16: t/m2
A17: α | B17: Deviation angle of the bend | I17: =IFERROR(VLOOKUP($H$11,Design_Data,7,FALSE),"") -> 0.785 | J17: rad
A18: A | B18: Area of the pipe | I18: =IFERROR(VLOOKUP($H$11,Design_Data,9,FALSE),"") -> 0.64 | J18: m2
A20: F | B20: Thurst Force = | E20: = | F20: ="2 x " & I16 & " x " &I18&" x Sin("& I17 &"/2)" -> 2 x 110 x 0.64 x Sin(0.785/2) | I20: =IFERROR(VLOOKUP($H$11,Design_Data,11,FALSE),"") -> 53.54 | J20: tonnes
A22: Ec | B22: Earth Cushion | I22: =IFERROR(VLOOKUP($H$11,Design_Data,13,FALSE),"") -> 0.6 | J22: m
A23: L | B23: Length of Concrete Block | I23: =IFERROR(VLOOKUP($H$11,Design_Data,14,FALSE),"") -> 3.2 | J23: m
A24: B | B24: Width of Concrete Block | I24: =IFERROR(VLOOKUP($H$11,Design_Data,15,FALSE),"") -> 3.2 | J24: m
A25: H | B25: Height of Concrete Block | I25: =IFERROR(VLOOKUP($H$11,Design_Data,16,FALSE),"") -> 3.2 | J25: m
B27: Weights
A28: Wc | B28: Weight of Concrete Block = | F28: ="= "&G8&" x " &I23&" x " & I24& " x " &I25 & " = " -> = 2.3 x 3.2 x 3.2 x 3.2 = | I28: =IFERROR(VLOOKUP($H$11,Design_Data,17,FALSE),"") -> 75.37 | J28: tonnes
A29: Ww | B29: Weight of water in the Pipe = | F29: ="="&G9&" x " & I18 & " x " & I23 & " = " -> =1 x 0.64 x 3.2 = | I29: =IFERROR(VLOOKUP($H$11,Design_Data,18,FALSE),"") -> 2.05 | J29: tonnes
A30: Ws | B30: Weight of Earth Cushion = | F30: ="= "&G3&" x " &I24&" x "&I15&" x x"&I22&" =" -> = 1.8 x 3.2 x 0.9 x x0.6 = | I30: =IFERROR(VLOOKUP($H$11,Design_Data,19,FALSE),"") -> 3.11 | J30: tonnes
A31: W | B31: Total Weight = | F31: ="= "&I28&" + "&I29&" + "&I30&" =" -> = 75.37 + 2.05 + 3.11 = | I31: =IFERROR(VLOOKUP($H$11,Design_Data,20,FALSE),"") -> 80.53 | J31: tonnes
B33: Counteracting Forces
A34: Fs | B34: Lateral Frictional Resistance of Soil = | G34: ="= "& G6&" x " &I31 & " =" -> = 0.3 x 80.53 = | I34: =IFERROR(VLOOKUP($H$11,Design_Data,21,FALSE),"") -> 24.16 | J34: tonnes
A35: Fp
B38: ="= ["&G3&" x ("&I25&"^2) x "&I23&" x "&D12&"/2] + [2 x "&G5&" x "&I25&" x "&I23&" x SQRT("&D12&")]=" -> = [1.8 x (3.2^2) x 3.2 x 3.003/2] + [2 x 0 x 3.2 x 3.2 x SQRT(3.003)]= | I38: =IFERROR(VLOOKUP($H$11,Design_Data,22,FALSE),"") -> 88.56 | J38: tonnes
A39: Fa
D42: ="= ["&G3&" x "&I15& " x " &D13& "] +[ 2 x "&G5&" x SQRT("&D13&")] = " -> = [1.8 x 0.9 x 0.333] +[ 2 x 0 x SQRT(0.333)] = | I42: =IFERROR(VLOOKUP($H$11,Design_Data,23,FALSE),"") -> 0.54 | J42: tonnes
A43: Fc | B43: Total Counteracting Forces = | F43: ="= "&I34& " + "&I38& " + "&I42&" =" -> = 24.16 + 88.56 + 0.54 = | I43: =IFERROR(VLOOKUP($H$11,Design_Data,24,FALSE),"") -> 113.26 | J43: tonnes
B45: Factor of Sagety = Total Counteracting Forces/ Horizontal Thrust = | I45: =IFERROR(VLOOKUP($H$11,Design_Data,25,FALSE),"") -> 2.12
B47: =IF(I45>=1.5,"Factor of Safety >= 1.5, Hence Design is Safe","Factor of Safety < 1.5, Hence Design is Unsafe") -> Factor of Safety >= 1.5, Hence Design is Safe

Sheet Database
A1: Pipe Materials | C1: Pipe Parameters
A2: DI | C2: Pipe Material | D2: Class | E2: Internal Dia | F2: Wall thickness
A3: MS | C3: DI
A9: Type of Soil | B9: Cohesion
A10: Gravel | B10: 0
A11: Sand | B11: 0
A12: Silt | B12: 0.007
A13: Dense Clay | B13: 0.035
A14: Soft Saturated Clay | B14: 0.15
